BEGIN:VCALENDAR
VERSION:2.0
PRODID:-//Nottingham City Golf Club - ECPv6.3.5//NONSGML v1.0//EN
CALSCALE:GREGORIAN
METHOD:PUBLISH
X-WR-CALNAME:Nottingham City Golf Club
X-ORIGINAL-URL:https://www.nottinghamcitygolfclub.co.uk
X-WR-CALDESC:Events for Nottingham City Golf Club
REFRESH-INTERVAL;VALUE=DURATION:PT1H
X-Robots-Tag:noindex
X-PUBLISHED-TTL:PT1H
BEGIN:VTIMEZONE
TZID:Europe/London
BEGIN:DAYLIGHT
TZOFFSETFROM:+0000
TZOFFSETTO:+0100
TZNAME:BST
DTSTART:20250330T010000
END:DAYLIGHT
BEGIN:STANDARD
TZOFFSETFROM:+0100
TZOFFSETTO:+0000
TZNAME:GMT
DTSTART:20251026T010000
END:STANDARD
END:VTIMEZONE
BEGIN:VEVENT
DTSTART;TZID=Europe/London:20250403T000000
DTEND;TZID=Europe/London:20250403T000000
DTSTAMP:20260423T003114
CREATED:20250208T193222Z
LAST-MODIFIED:20250208T193222Z
UID:3425-1743638400-1743638400@www.nottinghamcitygolfclub.co.uk
SUMMARY:SINFIN (Home) First Tee 10:00
DESCRIPTION:
URL:https://www.nottinghamcitygolfclub.co.uk/event/sinfin-home-first-tee-1000-2/
CATEGORIES:Seniors
END:VEVENT
BEGIN:VEVENT
DTSTART;TZID=Europe/London:20250407T000000
DTEND;TZID=Europe/London:20250407T000000
DTSTAMP:20260423T003114
CREATED:20250208T193237Z
LAST-MODIFIED:20250208T193237Z
UID:3427-1743984000-1743984000@www.nottinghamcitygolfclub.co.uk
SUMMARY:TOMMY BIRD POT
DESCRIPTION:
URL:https://www.nottinghamcitygolfclub.co.uk/event/tommy-bird-pot-4/
CATEGORIES:Seniors
END:VEVENT
BEGIN:VEVENT
DTSTART;TZID=Europe/London:20250414T000000
DTEND;TZID=Europe/London:20250414T000000
DTSTAMP:20260423T003114
CREATED:20250208T193252Z
LAST-MODIFIED:20250208T193252Z
UID:3430-1744588800-1744588800@www.nottinghamcitygolfclub.co.uk
SUMMARY:JOHN BLANCHARD
DESCRIPTION:
URL:https://www.nottinghamcitygolfclub.co.uk/event/john-blanchard-3/
CATEGORIES:Seniors
END:VEVENT
BEGIN:VEVENT
DTSTART;TZID=Europe/London:20250421T000000
DTEND;TZID=Europe/London:20250421T000000
DTSTAMP:20260423T003114
CREATED:20250208T193307Z
LAST-MODIFIED:20250208T193307Z
UID:3436-1745193600-1745193600@www.nottinghamcitygolfclub.co.uk
SUMMARY:ALAN DAVIES CUP
DESCRIPTION:
URL:https://www.nottinghamcitygolfclub.co.uk/event/alan-davies-cup-2/
CATEGORIES:Seniors
END:VEVENT
BEGIN:VEVENT
DTSTART;TZID=Europe/London:20250428T000000
DTEND;TZID=Europe/London:20250428T000000
DTSTAMP:20260423T003114
CREATED:20250208T193322Z
LAST-MODIFIED:20250208T193322Z
UID:3443-1745798400-1745798400@www.nottinghamcitygolfclub.co.uk
SUMMARY:JOHN TENNICK
DESCRIPTION:
URL:https://www.nottinghamcitygolfclub.co.uk/event/john-tennick-3/
CATEGORIES:Seniors
END:VEVENT
END:VCALENDAR