BEGIN:VCALENDAR
VERSION:2.0
PRODID:-//Nottingham City Golf Club - ECPv6.3.5//NONSGML v1.0//EN
CALSCALE:GREGORIAN
METHOD:PUBLISH
X-ORIGINAL-URL:https://www.nottinghamcitygolfclub.co.uk
X-WR-CALDESC:Events for Nottingham City Golf Club
REFRESH-INTERVAL;VALUE=DURATION:PT1H
X-Robots-Tag:noindex
X-PUBLISHED-TTL:PT1H
BEGIN:VTIMEZONE
TZID:Europe/London
BEGIN:DAYLIGHT
TZOFFSETFROM:+0000
TZOFFSETTO:+0100
TZNAME:BST
DTSTART:20250330T010000
END:DAYLIGHT
BEGIN:STANDARD
TZOFFSETFROM:+0100
TZOFFSETTO:+0000
TZNAME:GMT
DTSTART:20251026T010000
END:STANDARD
END:VTIMEZONE
BEGIN:VEVENT
DTSTART;TZID=Europe/London:20250317T000000
DTEND;TZID=Europe/London:20250317T000000
DTSTAMP:20260423T020515
CREATED:20250208T193219Z
LAST-MODIFIED:20250208T193219Z
UID:3418-1742169600-1742169600@www.nottinghamcitygolfclub.co.uk
SUMMARY:ST PATRICKS VASE Followed by AGM 13:15
DESCRIPTION:
URL:https://www.nottinghamcitygolfclub.co.uk/event/st-patricks-vase-followed-by-agm-1315-2/
CATEGORIES:Seniors
END:VEVENT
BEGIN:VEVENT
DTSTART;TZID=Europe/London:20250324T000000
DTEND;TZID=Europe/London:20250324T000000
DTSTAMP:20260423T020515
CREATED:20250208T193222Z
LAST-MODIFIED:20250208T193222Z
UID:3422-1742774400-1742774400@www.nottinghamcitygolfclub.co.uk
SUMMARY:SINFIN (Away) First Tee 10:00
DESCRIPTION:
URL:https://www.nottinghamcitygolfclub.co.uk/event/sinfin-away-first-tee-1000-2/
CATEGORIES:Seniors
END:VEVENT
END:VCALENDAR