BEGIN:VCALENDAR
VERSION:2.0
PRODID:-//Nottingham City Golf Club - ECPv6.3.5//NONSGML v1.0//EN
CALSCALE:GREGORIAN
METHOD:PUBLISH
X-WR-CALNAME:Nottingham City Golf Club
X-ORIGINAL-URL:http://www.nottinghamcitygolfclub.co.uk
X-WR-CALDESC:Events for Nottingham City Golf Club
REFRESH-INTERVAL;VALUE=DURATION:PT1H
X-Robots-Tag:noindex
X-PUBLISHED-TTL:PT1H
BEGIN:VTIMEZONE
TZID:Europe/London
BEGIN:DAYLIGHT
TZOFFSETFROM:+0000
TZOFFSETTO:+0100
TZNAME:BST
DTSTART:20190331T010000
END:DAYLIGHT
BEGIN:STANDARD
TZOFFSETFROM:+0100
TZOFFSETTO:+0000
TZNAME:GMT
DTSTART:20191027T010000
END:STANDARD
BEGIN:DAYLIGHT
TZOFFSETFROM:+0000
TZOFFSETTO:+0100
TZNAME:BST
DTSTART:20200329T010000
END:DAYLIGHT
BEGIN:STANDARD
TZOFFSETFROM:+0100
TZOFFSETTO:+0000
TZNAME:GMT
DTSTART:20201025T010000
END:STANDARD
END:VTIMEZONE
BEGIN:VEVENT
DTSTART;VALUE=DATE:20200406
DTEND;VALUE=DATE:20200407
DTSTAMP:20260420T075258
CREATED:20121127T182941Z
LAST-MODIFIED:20200307T184122Z
UID:190-1586131200-1586217599@www.nottinghamcitygolfclub.co.uk
SUMMARY:Ruddington  Awayday (snr)
DESCRIPTION:
URL:http://www.nottinghamcitygolfclub.co.uk/event/oakmere-2/
CATEGORIES:Seniors
END:VEVENT
BEGIN:VEVENT
DTSTART;VALUE=DATE:20200404
DTEND;VALUE=DATE:20200405
DTSTAMP:20260420T075258
CREATED:20121127T182922Z
LAST-MODIFIED:20200307T183943Z
UID:106-1585958400-1586044799@www.nottinghamcitygolfclub.co.uk
SUMMARY:Travis Richards Cup (mens)
DESCRIPTION:
URL:http://www.nottinghamcitygolfclub.co.uk/event/travis-richards-cup/
CATEGORIES:Men
END:VEVENT
BEGIN:VEVENT
DTSTART;TZID=Europe/London:20200403T080000
DTEND;TZID=Europe/London:20200403T170000
DTSTAMP:20260420T075258
CREATED:20190228T101103Z
LAST-MODIFIED:20200307T183821Z
UID:1685-1585900800-1585933200@www.nottinghamcitygolfclub.co.uk
SUMMARY:Monthly Stableford April  (Ladies)
DESCRIPTION:
URL:http://www.nottinghamcitygolfclub.co.uk/event/monthly-stableford-april-ladies/
CATEGORIES:Ladies
END:VEVENT
BEGIN:VEVENT
DTSTART;TZID=Europe/London:20200330T080000
DTEND;TZID=Europe/London:20200330T170000
DTSTAMP:20260420T075258
CREATED:20200307T183411Z
LAST-MODIFIED:20200307T183411Z
UID:1999-1585555200-1585587600@www.nottinghamcitygolfclub.co.uk
SUMMARY:Spare (Snr)
DESCRIPTION:
URL:http://www.nottinghamcitygolfclub.co.uk/event/spare-snr/
END:VEVENT
BEGIN:VEVENT
DTSTART;VALUE=DATE:20200330
DTEND;VALUE=DATE:20200331
DTSTAMP:20260420T075258
CREATED:20200307T180041Z
LAST-MODIFIED:20200307T180052Z
UID:112-1585526400-1585612799@www.nottinghamcitygolfclub.co.uk
SUMMARY:Mens Scratch League NCGC  V  Trent Lock GC Away
DESCRIPTION:
URL:http://www.nottinghamcitygolfclub.co.uk/event/mens-scratch-league1/
CATEGORIES:Men
END:VEVENT
BEGIN:VEVENT
DTSTART;VALUE=DATE:20200328
DTEND;VALUE=DATE:20200329
DTSTAMP:20260420T075258
CREATED:20121127T182922Z
LAST-MODIFIED:20200307T181451Z
UID:103-1585353600-1585439999@www.nottinghamcitygolfclub.co.uk
SUMMARY:Mens Sat Monthly Medal - March
DESCRIPTION:
URL:http://www.nottinghamcitygolfclub.co.uk/event/mens-monthly-medal-march/
CATEGORIES:Men
END:VEVENT
BEGIN:VEVENT
DTSTART;TZID=Europe/London:20200327T080000
DTEND;TZID=Europe/London:20200327T170000
DTSTAMP:20260420T075258
CREATED:20190209T135525Z
LAST-MODIFIED:20200307T181839Z
UID:1634-1585296000-1585328400@www.nottinghamcitygolfclub.co.uk
SUMMARY:Texas Scramble (Ladies)
DESCRIPTION:
URL:http://www.nottinghamcitygolfclub.co.uk/event/texas-scramble/
CATEGORIES:Ladies
END:VEVENT
BEGIN:VEVENT
DTSTART;TZID=Europe/London:20200323T080000
DTEND;TZID=Europe/London:20200323T170000
DTSTAMP:20260420T075258
CREATED:20200307T182911Z
LAST-MODIFIED:20200307T183155Z
UID:1995-1584950400-1584982800@www.nottinghamcitygolfclub.co.uk
SUMMARY:Spare  (Snr)
DESCRIPTION:
URL:http://www.nottinghamcitygolfclub.co.uk/event/spare/
CATEGORIES:Seniors
END:VEVENT
BEGIN:VEVENT
DTSTART;VALUE=DATE:20200321
DTEND;VALUE=DATE:20200322
DTSTAMP:20260420T075258
CREATED:20121127T182922Z
LAST-MODIFIED:20200307T181205Z
UID:104-1584748800-1584835199@www.nottinghamcitygolfclub.co.uk
SUMMARY:Sheriff Ward Trophy(mens)
DESCRIPTION:15 best nett qualify for matchplay k/o +last years winner
URL:http://www.nottinghamcitygolfclub.co.uk/event/sheriff-ward-trophy/
CATEGORIES:Men
END:VEVENT
BEGIN:VEVENT
DTSTART;VALUE=DATE:20200320
DTEND;VALUE=DATE:20200321
DTSTAMP:20260420T075258
CREATED:20121128T132521Z
LAST-MODIFIED:20200307T182050Z
UID:212-1584662400-1584748799@www.nottinghamcitygolfclub.co.uk
SUMMARY:Captain v Vice Captain (ladies)
DESCRIPTION:
URL:http://www.nottinghamcitygolfclub.co.uk/event/captain-vice-captain/
CATEGORIES:Ladies
END:VEVENT
BEGIN:VEVENT
DTSTART;VALUE=DATE:20200316
DTEND;VALUE=DATE:20200317
DTSTAMP:20260420T075258
CREATED:20121127T182922Z
LAST-MODIFIED:20200307T180804Z
UID:186-1584316800-1584403199@www.nottinghamcitygolfclub.co.uk
SUMMARY:St. Patricks Vase (snr) AGM
DESCRIPTION:Medal
URL:http://www.nottinghamcitygolfclub.co.uk/event/st-patricks-vase/
CATEGORIES:Seniors
END:VEVENT
BEGIN:VEVENT
DTSTART;VALUE=DATE:20200314
DTEND;VALUE=DATE:20200315
DTSTAMP:20260420T075258
CREATED:20121127T182922Z
LAST-MODIFIED:20200307T181333Z
UID:101-1584144000-1584230399@www.nottinghamcitygolfclub.co.uk
SUMMARY:Ron Clay Cup Pairs Mens Greensome
DESCRIPTION:
URL:http://www.nottinghamcitygolfclub.co.uk/event/ron-clay-cup-pairs/
CATEGORIES:Men
END:VEVENT
BEGIN:VEVENT
DTSTART;TZID=Europe/London:20200313T080000
DTEND;TZID=Europe/London:20200313T170000
DTSTAMP:20260420T075258
CREATED:20190225T211917Z
LAST-MODIFIED:20200307T182443Z
UID:1658-1584086400-1584118800@www.nottinghamcitygolfclub.co.uk
SUMMARY:EG Monthly Medal March (Ladies)
DESCRIPTION:
URL:http://www.nottinghamcitygolfclub.co.uk/event/eg-monthly-medal-march-ladies/
CATEGORIES:Ladies
END:VEVENT
BEGIN:VEVENT
DTSTART;VALUE=DATE:20200307
DTEND;VALUE=DATE:20200308
DTSTAMP:20260420T075258
CREATED:20121127T183044Z
LAST-MODIFIED:20200229T114702Z
UID:167-1583539200-1583625599@www.nottinghamcitygolfclub.co.uk
SUMMARY:Presentation
DESCRIPTION:Presentation  Saturday 7th March 2020 12-45 pm
URL:http://www.nottinghamcitygolfclub.co.uk/event/t-b-a/
CATEGORIES:Men
END:VEVENT
BEGIN:VEVENT
DTSTART;VALUE=DATE:20200307
DTEND;VALUE=DATE:20200308
DTSTAMP:20260420T075258
CREATED:20121127T182922Z
LAST-MODIFIED:20200229T113845Z
UID:100-1583539200-1583625599@www.nottinghamcitygolfclub.co.uk
SUMMARY:Captains Drive-in Mens\,  Presentation After 12-45PM
DESCRIPTION:
URL:http://www.nottinghamcitygolfclub.co.uk/event/captains-drive-in/
CATEGORIES:Men
END:VEVENT
BEGIN:VEVENT
DTSTART;TZID=Europe/London:20200306T080000
DTEND;TZID=Europe/London:20200306T170000
DTSTAMP:20260420T075258
CREATED:20190225T211600Z
LAST-MODIFIED:20200307T182617Z
UID:1656-1583481600-1583514000@www.nottinghamcitygolfclub.co.uk
SUMMARY:Monthly Stableford March  (Ladies)
DESCRIPTION:
URL:http://www.nottinghamcitygolfclub.co.uk/event/monthly-stableford-march-ladies/
CATEGORIES:Ladies
END:VEVENT
BEGIN:VEVENT
DTSTART;VALUE=DATE:20200229
DTEND;VALUE=DATE:20200301
DTSTAMP:20260420T075258
CREATED:20170119T131844Z
LAST-MODIFIED:20170119T131844Z
UID:1212-1582934400-1583020799@www.nottinghamcitygolfclub.co.uk
SUMMARY:NCGC AGM
DESCRIPTION:
URL:http://www.nottinghamcitygolfclub.co.uk/event/ncgc-agm/
CATEGORIES:Ladies,Men
END:VEVENT
BEGIN:VEVENT
DTSTART;VALUE=DATE:20191115
DTEND;VALUE=DATE:20191116
DTSTAMP:20260420T075258
CREATED:20121220T135403Z
LAST-MODIFIED:20200229T112956Z
UID:248-1573776000-1573862399@www.nottinghamcitygolfclub.co.uk
SUMMARY:Lady Captains Christmas Charity
DESCRIPTION:
URL:http://www.nottinghamcitygolfclub.co.uk/event/lady-captains-christmas-charity/
CATEGORIES:Ladies
END:VEVENT
BEGIN:VEVENT
DTSTART;VALUE=DATE:20191108
DTEND;VALUE=DATE:20191109
DTSTAMP:20260420T075258
CREATED:20121220T135335Z
LAST-MODIFIED:20121220T135335Z
UID:247-1573171200-1573257599@www.nottinghamcitygolfclub.co.uk
SUMMARY:EWGA Medal for December (Ladies)
DESCRIPTION:
URL:http://www.nottinghamcitygolfclub.co.uk/event/monthly-medal-december/
CATEGORIES:Ladies
END:VEVENT
BEGIN:VEVENT
DTSTART;VALUE=DATE:20191101
DTEND;VALUE=DATE:20191102
DTSTAMP:20260420T075258
CREATED:20121220T135236Z
LAST-MODIFIED:20121220T135236Z
UID:245-1572566400-1572652799@www.nottinghamcitygolfclub.co.uk
SUMMARY:EWGA Stableford - November (Ladies)
DESCRIPTION:
URL:http://www.nottinghamcitygolfclub.co.uk/event/monthly-stableford-november/
CATEGORIES:Ladies
END:VEVENT
BEGIN:VEVENT
DTSTART;TZID=Europe/London:20191026T080000
DTEND;TZID=Europe/London:20191026T170000
DTSTAMP:20260420T075258
CREATED:20171201T135316Z
LAST-MODIFIED:20171201T135316Z
UID:1464-1572076800-1572109200@www.nottinghamcitygolfclub.co.uk
SUMMARY:Winter Competitions Start
DESCRIPTION:
URL:http://www.nottinghamcitygolfclub.co.uk/event/winter-competitions-start/
CATEGORIES:Men
END:VEVENT
BEGIN:VEVENT
DTSTART;VALUE=DATE:20191025
DTEND;VALUE=DATE:20191026
DTSTAMP:20260420T075258
CREATED:20121220T135209Z
LAST-MODIFIED:20121220T135209Z
UID:244-1571961600-1572047999@www.nottinghamcitygolfclub.co.uk
SUMMARY:EWGA Medal - November (Ladies)
DESCRIPTION:
URL:http://www.nottinghamcitygolfclub.co.uk/event/monthly-medal-november/
CATEGORIES:Ladies
END:VEVENT
BEGIN:VEVENT
DTSTART;VALUE=DATE:20191019
DTEND;VALUE=DATE:20191020
DTSTAMP:20260420T075258
CREATED:20140226T201235Z
LAST-MODIFIED:20140226T201235Z
UID:671-1571443200-1571529599@www.nottinghamcitygolfclub.co.uk
SUMMARY:T.B.A
DESCRIPTION:
URL:http://www.nottinghamcitygolfclub.co.uk/event/winter-competition-starts/
CATEGORIES:Men
END:VEVENT
BEGIN:VEVENT
DTSTART;VALUE=DATE:20191018
DTEND;VALUE=DATE:20191019
DTSTAMP:20260420T075258
CREATED:20191013T142503Z
LAST-MODIFIED:20191013T142509Z
UID:1530-1571356800-1571443199@www.nottinghamcitygolfclub.co.uk
SUMMARY:Stableford Bring and Take
DESCRIPTION:
URL:http://www.nottinghamcitygolfclub.co.uk/event/stableford-bring-and-take/
CATEGORIES:Ladies
END:VEVENT
BEGIN:VEVENT
DTSTART;VALUE=DATE:20191011
DTEND;VALUE=DATE:20191012
DTSTAMP:20260420T075258
CREATED:20121220T135053Z
LAST-MODIFIED:20121220T135053Z
UID:242-1570752000-1570838399@www.nottinghamcitygolfclub.co.uk
SUMMARY:Monthly Stableford - October (Ladies)
DESCRIPTION:
URL:http://www.nottinghamcitygolfclub.co.uk/event/monthly-stableford-october/
CATEGORIES:Ladies
END:VEVENT
BEGIN:VEVENT
DTSTART;VALUE=DATE:20191004
DTEND;VALUE=DATE:20191005
DTSTAMP:20260420T075258
CREATED:20121220T134934Z
LAST-MODIFIED:20121220T134934Z
UID:240-1570147200-1570233599@www.nottinghamcitygolfclub.co.uk
SUMMARY:EWGA Medal (Ladies)
DESCRIPTION:
URL:http://www.nottinghamcitygolfclub.co.uk/event/monthly-medal-october/
CATEGORIES:Ladies
END:VEVENT
BEGIN:VEVENT
DTSTART;VALUE=DATE:20191003
DTEND;VALUE=DATE:20191004
DTSTAMP:20260420T075258
CREATED:20121127T183044Z
LAST-MODIFIED:20121127T183044Z
UID:165-1570060800-1570147199@www.nottinghamcitygolfclub.co.uk
SUMMARY:Mens Thurs Christmas Fayre Stableford (1)
DESCRIPTION:
URL:http://www.nottinghamcitygolfclub.co.uk/event/christmas-fayre-stableford1/
CATEGORIES:Men
END:VEVENT
BEGIN:VEVENT
DTSTART;VALUE=DATE:20190928
DTEND;VALUE=DATE:20190929
DTSTAMP:20260420T075258
CREATED:20121127T183044Z
LAST-MODIFIED:20121127T183044Z
UID:162-1569628800-1569715199@www.nottinghamcitygolfclub.co.uk
SUMMARY:Mens Sat Monthly Medal Finals (2)
DESCRIPTION:Medal Finals
URL:http://www.nottinghamcitygolfclub.co.uk/event/mens-monthly-medal-finals2/
CATEGORIES:Men
END:VEVENT
BEGIN:VEVENT
DTSTART;VALUE=DATE:20190927
DTEND;VALUE=DATE:20190928
DTSTAMP:20260420T075258
CREATED:20121220T135024Z
LAST-MODIFIED:20121220T135024Z
UID:241-1569542400-1569628799@www.nottinghamcitygolfclub.co.uk
SUMMARY:Stableford Finals (Ladies)
DESCRIPTION:
URL:http://www.nottinghamcitygolfclub.co.uk/event/stableford-finals/
CATEGORIES:Ladies
END:VEVENT
BEGIN:VEVENT
DTSTART;VALUE=DATE:20190926
DTEND;VALUE=DATE:20190927
DTSTAMP:20260420T075258
CREATED:20121127T183044Z
LAST-MODIFIED:20121127T183044Z
UID:161-1569456000-1569542399@www.nottinghamcitygolfclub.co.uk
SUMMARY:Mens Thurs Monthly Medal Finals (1)
DESCRIPTION:Medal Finals
URL:http://www.nottinghamcitygolfclub.co.uk/event/monthly-medal-finals1/
CATEGORIES:Men
END:VEVENT
END:VCALENDAR