BEGIN:VCALENDAR
VERSION:2.0
PRODID:-//Nottingham City Golf Club - ECPv6.3.5//NONSGML v1.0//EN
CALSCALE:GREGORIAN
METHOD:PUBLISH
X-WR-CALNAME:Nottingham City Golf Club
X-ORIGINAL-URL:http://www.nottinghamcitygolfclub.co.uk
X-WR-CALDESC:Events for Nottingham City Golf Club
REFRESH-INTERVAL;VALUE=DURATION:PT1H
X-Robots-Tag:noindex
X-PUBLISHED-TTL:PT1H
BEGIN:VTIMEZONE
TZID:Europe/London
BEGIN:DAYLIGHT
TZOFFSETFROM:+0000
TZOFFSETTO:+0100
TZNAME:BST
DTSTART:20130331T010000
END:DAYLIGHT
BEGIN:STANDARD
TZOFFSETFROM:+0100
TZOFFSETTO:+0000
TZNAME:GMT
DTSTART:20131027T010000
END:STANDARD
END:VTIMEZONE
BEGIN:VEVENT
DTSTART;VALUE=DATE:20130812
DTEND;VALUE=DATE:20130813
DTSTAMP:20260420T031134
CREATED:20130119T175159Z
LAST-MODIFIED:20130119T175159Z
UID:292-1376265600-1376351999@www.nottinghamcitygolfclub.co.uk
SUMMARY:Ladies Interclub (4th Round)
DESCRIPTION:
URL:http://www.nottinghamcitygolfclub.co.uk/event/ladies-interclub-4th-round/
CATEGORIES:Ladies
END:VEVENT
BEGIN:VEVENT
DTSTART;VALUE=DATE:20130729
DTEND;VALUE=DATE:20130730
DTSTAMP:20260420T031134
CREATED:20121127T183016Z
LAST-MODIFIED:20121127T183016Z
UID:184-1375056000-1375142399@www.nottinghamcitygolfclub.co.uk
SUMMARY:Inter Club Scratch League (Round 7)
DESCRIPTION:Round Seven:\nHome vs Bulwell Forest
URL:http://www.nottinghamcitygolfclub.co.uk/event/inter-club-scratch-league7/
CATEGORIES:Men
END:VEVENT
BEGIN:VEVENT
DTSTART;VALUE=DATE:20130722
DTEND;VALUE=DATE:20130723
DTSTAMP:20260420T031134
CREATED:20121127T183016Z
LAST-MODIFIED:20121127T183016Z
UID:175-1374451200-1374537599@www.nottinghamcitygolfclub.co.uk
SUMMARY:Interclub Foursomes (Mens 4th Round)
DESCRIPTION:
URL:http://www.nottinghamcitygolfclub.co.uk/event/interclub-foursomes-men4/
CATEGORIES:Men
END:VEVENT
BEGIN:VEVENT
DTSTART;VALUE=DATE:20130715
DTEND;VALUE=DATE:20130716
DTSTAMP:20260420T031134
CREATED:20121127T183016Z
LAST-MODIFIED:20121127T183016Z
UID:183-1373846400-1373932799@www.nottinghamcitygolfclub.co.uk
SUMMARY:Inter Club Scratch League (Round 6)
DESCRIPTION:Round Six:\nAway vs Ruddington Grange
URL:http://www.nottinghamcitygolfclub.co.uk/event/inter-club-scratch-league6/
CATEGORIES:Men
END:VEVENT
BEGIN:VEVENT
DTSTART;VALUE=DATE:20130701
DTEND;VALUE=DATE:20130702
DTSTAMP:20260420T031134
CREATED:20121127T182955Z
LAST-MODIFIED:20121127T182955Z
UID:132-1372636800-1372723199@www.nottinghamcitygolfclub.co.uk
SUMMARY:Mens Scratch League (5)
DESCRIPTION:Home v Trent Lock
URL:http://www.nottinghamcitygolfclub.co.uk/event/mens-scratch-league5/
CATEGORIES:Men
END:VEVENT
BEGIN:VEVENT
DTSTART;VALUE=DATE:20130701
DTEND;VALUE=DATE:20130702
DTSTAMP:20260420T031134
CREATED:20121127T182955Z
LAST-MODIFIED:20121127T182955Z
UID:182-1372636800-1372723199@www.nottinghamcitygolfclub.co.uk
SUMMARY:Inter Club Scratch League (Round 5)
DESCRIPTION:Round Five:\nHome vs Trent Lock
URL:http://www.nottinghamcitygolfclub.co.uk/event/inter-club-scratch-league5/
CATEGORIES:Men
END:VEVENT
BEGIN:VEVENT
DTSTART;VALUE=DATE:20130428
DTEND;VALUE=DATE:20130429
DTSTAMP:20260420T031134
CREATED:20121127T183016Z
LAST-MODIFIED:20121127T183016Z
UID:144-1367107200-1367193599@www.nottinghamcitygolfclub.co.uk
SUMMARY:Interclub Mixed Foursomes  Rd 1
DESCRIPTION:
URL:http://www.nottinghamcitygolfclub.co.uk/event/mixed-foursomes-1/
CATEGORIES:Mixed
END:VEVENT
END:VCALENDAR