BEGIN:VCALENDAR
VERSION:2.0
PRODID:-//Nottingham City Golf Club - ECPv6.3.5//NONSGML v1.0//EN
CALSCALE:GREGORIAN
METHOD:PUBLISH
X-WR-CALNAME:Nottingham City Golf Club
X-ORIGINAL-URL:http://www.nottinghamcitygolfclub.co.uk
X-WR-CALDESC:Events for Nottingham City Golf Club
REFRESH-INTERVAL;VALUE=DURATION:PT1H
X-Robots-Tag:noindex
X-PUBLISHED-TTL:PT1H
BEGIN:VTIMEZONE
TZID:Europe/London
BEGIN:DAYLIGHT
TZOFFSETFROM:+0000
TZOFFSETTO:+0100
TZNAME:BST
DTSTART:20150329T010000
END:DAYLIGHT
BEGIN:STANDARD
TZOFFSETFROM:+0100
TZOFFSETTO:+0000
TZNAME:GMT
DTSTART:20151025T010000
END:STANDARD
BEGIN:DAYLIGHT
TZOFFSETFROM:+0000
TZOFFSETTO:+0100
TZNAME:BST
DTSTART:20160327T010000
END:DAYLIGHT
BEGIN:STANDARD
TZOFFSETFROM:+0100
TZOFFSETTO:+0000
TZNAME:GMT
DTSTART:20161030T010000
END:STANDARD
BEGIN:DAYLIGHT
TZOFFSETFROM:+0000
TZOFFSETTO:+0100
TZNAME:BST
DTSTART:20170326T010000
END:DAYLIGHT
BEGIN:STANDARD
TZOFFSETFROM:+0100
TZOFFSETTO:+0000
TZNAME:GMT
DTSTART:20171029T010000
END:STANDARD
BEGIN:DAYLIGHT
TZOFFSETFROM:+0000
TZOFFSETTO:+0100
TZNAME:BST
DTSTART:20180325T010000
END:DAYLIGHT
BEGIN:STANDARD
TZOFFSETFROM:+0100
TZOFFSETTO:+0000
TZNAME:GMT
DTSTART:20181028T010000
END:STANDARD
BEGIN:DAYLIGHT
TZOFFSETFROM:+0000
TZOFFSETTO:+0100
TZNAME:BST
DTSTART:20190331T010000
END:DAYLIGHT
BEGIN:STANDARD
TZOFFSETFROM:+0100
TZOFFSETTO:+0000
TZNAME:GMT
DTSTART:20191027T010000
END:STANDARD
END:VTIMEZONE
BEGIN:VEVENT
DTSTART;VALUE=DATE:20190803
DTEND;VALUE=DATE:20190804
DTSTAMP:20260419T210946
CREATED:20121127T183016Z
LAST-MODIFIED:20121127T183016Z
UID:147-1564790400-1564876799@www.nottinghamcitygolfclub.co.uk
SUMMARY:Eric Perry Cup Medal (mens)
DESCRIPTION:
URL:http://www.nottinghamcitygolfclub.co.uk/event/eric-perry-cup-medal/
CATEGORIES:Men
END:VEVENT
BEGIN:VEVENT
DTSTART;TZID=Europe/London:20190722T080000
DTEND;TZID=Europe/London:20190722T170000
DTSTAMP:20260419T210946
CREATED:20171201T121655Z
LAST-MODIFIED:20171201T121655Z
UID:1458-1563782400-1563814800@www.nottinghamcitygolfclub.co.uk
SUMMARY:Seniors away day Rother Valley
DESCRIPTION:
URL:http://www.nottinghamcitygolfclub.co.uk/event/seniors-away-day-rother-valley/
CATEGORIES:Seniors
END:VEVENT
BEGIN:VEVENT
DTSTART;VALUE=DATE:20190627
DTEND;VALUE=DATE:20190628
DTSTAMP:20260419T210946
CREATED:20121127T182955Z
LAST-MODIFIED:20121127T182955Z
UID:130-1561593600-1561679999@www.nottinghamcitygolfclub.co.uk
SUMMARY:Presentation 7 30 PM
DESCRIPTION:
URL:http://www.nottinghamcitygolfclub.co.uk/event/monthly-medal-june1/
CATEGORIES:Men
END:VEVENT
BEGIN:VEVENT
DTSTART;VALUE=DATE:20190503
DTEND;VALUE=DATE:20190504
DTSTAMP:20260419T210946
CREATED:20130119T172103Z
LAST-MODIFIED:20130119T172103Z
UID:265-1556841600-1556927999@www.nottinghamcitygolfclub.co.uk
SUMMARY:EWGA Medal  (ladies)
DESCRIPTION:
URL:http://www.nottinghamcitygolfclub.co.uk/event/ewga-medal-m-durham-1st-card/
CATEGORIES:Ladies
END:VEVENT
BEGIN:VEVENT
DTSTART;TZID=Europe/London:20190429T080000
DTEND;TZID=Europe/London:20190429T170000
DTSTAMP:20260419T210946
CREATED:20190228T101557Z
LAST-MODIFIED:20190228T101557Z
UID:1688-1556524800-1556557200@www.nottinghamcitygolfclub.co.uk
SUMMARY:Alan Davies Stableford
DESCRIPTION:
URL:http://www.nottinghamcitygolfclub.co.uk/event/alan-davies-stableford/
CATEGORIES:Seniors
END:VEVENT
BEGIN:VEVENT
DTSTART;TZID=Europe/London:20190417T080000
DTEND;TZID=Europe/London:20190417T170000
DTSTAMP:20260419T210946
CREATED:20190228T100153Z
LAST-MODIFIED:20190228T100153Z
UID:1679-1555488000-1555520400@www.nottinghamcitygolfclub.co.uk
SUMMARY:Ladies v Seniors
DESCRIPTION:
URL:http://www.nottinghamcitygolfclub.co.uk/event/ladies-v-seniors-2/
CATEGORIES:Ladies,Seniors
END:VEVENT
BEGIN:VEVENT
DTSTART;VALUE=DATE:20190302
DTEND;VALUE=DATE:20190303
DTSTAMP:20260419T210946
CREATED:20121127T182922Z
LAST-MODIFIED:20121127T182922Z
UID:99-1551484800-1551571199@www.nottinghamcitygolfclub.co.uk
SUMMARY:Last Winter Competition
DESCRIPTION:
URL:http://www.nottinghamcitygolfclub.co.uk/event/winter-competition/
CATEGORIES:Men
END:VEVENT
BEGIN:VEVENT
DTSTART;TZID=Europe/London:20190223T080000
DTEND;TZID=Europe/London:20190223T170000
DTSTAMP:20260419T210946
CREATED:20171201T135436Z
LAST-MODIFIED:20171201T135436Z
UID:1465-1550908800-1550941200@www.nottinghamcitygolfclub.co.uk
SUMMARY:NCGC AGM
DESCRIPTION:
URL:http://www.nottinghamcitygolfclub.co.uk/event/ncgc-agm-2/
CATEGORIES:Ladies,Men
END:VEVENT
BEGIN:VEVENT
DTSTART;TZID=Europe/London:20190222T080000
DTEND;TZID=Europe/London:20190222T170000
DTSTAMP:20260419T210946
CREATED:20171201T135518Z
LAST-MODIFIED:20171201T135518Z
UID:1466-1550822400-1550854800@www.nottinghamcitygolfclub.co.uk
SUMMARY:LADIES AGM
DESCRIPTION:
URL:http://www.nottinghamcitygolfclub.co.uk/event/ladies-agm-2/
CATEGORIES:Ladies,Men
END:VEVENT
BEGIN:VEVENT
DTSTART;VALUE=DATE:20181207
DTEND;VALUE=DATE:20181208
DTSTAMP:20260419T210946
CREATED:20181219T131653Z
LAST-MODIFIED:20181219T131653Z
UID:1210-1544140800-1544227199@www.nottinghamcitygolfclub.co.uk
SUMMARY:Ladies Winter Competitions Start
DESCRIPTION:
URL:http://www.nottinghamcitygolfclub.co.uk/event/ladies-winter-competitions-start/
CATEGORIES:Ladies
END:VEVENT
BEGIN:VEVENT
DTSTART;VALUE=DATE:20181116
DTEND;VALUE=DATE:20181117
DTSTAMP:20260419T210946
CREATED:20121220T135257Z
LAST-MODIFIED:20121220T135257Z
UID:246-1542326400-1542412799@www.nottinghamcitygolfclub.co.uk
SUMMARY:T B A (Ladies)
DESCRIPTION:
URL:http://www.nottinghamcitygolfclub.co.uk/event/bring/
CATEGORIES:Ladies
END:VEVENT
BEGIN:VEVENT
DTSTART;VALUE=DATE:20180910
DTEND;VALUE=DATE:20180911
DTSTAMP:20260419T210946
CREATED:20121220T134800Z
LAST-MODIFIED:20121220T134800Z
UID:238-1536537600-1536623999@www.nottinghamcitygolfclub.co.uk
SUMMARY:Ladies Interclub Final
DESCRIPTION:
URL:http://www.nottinghamcitygolfclub.co.uk/event/ladies-interclub-final/
CATEGORIES:Ladies
END:VEVENT
BEGIN:VEVENT
DTSTART;VALUE=DATE:20180908
DTEND;VALUE=DATE:20180909
DTSTAMP:20260419T210946
CREATED:20121127T183032Z
LAST-MODIFIED:20121127T183032Z
UID:156-1536364800-1536451199@www.nottinghamcitygolfclub.co.uk
SUMMARY:Mens Sat Monthly Medal - September (2)
DESCRIPTION:
URL:http://www.nottinghamcitygolfclub.co.uk/event/monthly-medal-september2/
CATEGORIES:Men
END:VEVENT
BEGIN:VEVENT
DTSTART;VALUE=DATE:20180906
DTEND;VALUE=DATE:20180907
DTSTAMP:20260419T210946
CREATED:20170119T131249Z
LAST-MODIFIED:20170119T131249Z
UID:1208-1536192000-1536278399@www.nottinghamcitygolfclub.co.uk
SUMMARY:September Thursday Medal
DESCRIPTION:
URL:http://www.nottinghamcitygolfclub.co.uk/event/september-thursday-medal/
CATEGORIES:Men
END:VEVENT
BEGIN:VEVENT
DTSTART;VALUE=DATE:20180730
DTEND;VALUE=DATE:20180731
DTSTAMP:20260419T210946
CREATED:20121127T183016Z
LAST-MODIFIED:20121127T183016Z
UID:202-1532908800-1532995199@www.nottinghamcitygolfclub.co.uk
SUMMARY:Terry Thurgood Trophy (snr)
DESCRIPTION:Medal
URL:http://www.nottinghamcitygolfclub.co.uk/event/terry-thurgood-trophy/
CATEGORIES:Seniors
END:VEVENT
BEGIN:VEVENT
DTSTART;VALUE=DATE:20180702
DTEND;VALUE=DATE:20180703
DTSTAMP:20260419T210946
CREATED:20170119T130306Z
LAST-MODIFIED:20170119T130306Z
UID:1201-1530489600-1530575999@www.nottinghamcitygolfclub.co.uk
SUMMARY:3rd Round Ladies Interclub
DESCRIPTION:
URL:http://www.nottinghamcitygolfclub.co.uk/event/3rd-round-ladies-interclub/
CATEGORIES:Ladies
END:VEVENT
BEGIN:VEVENT
DTSTART;VALUE=DATE:20180601
DTEND;VALUE=DATE:20180602
DTSTAMP:20260419T210946
CREATED:20130119T174121Z
LAST-MODIFIED:20130119T174121Z
UID:279-1527811200-1527897599@www.nottinghamcitygolfclub.co.uk
SUMMARY:EWGA Medal  + M Durham 2nd card (ladies)
DESCRIPTION:
URL:http://www.nottinghamcitygolfclub.co.uk/event/ewga-medal-2/
CATEGORIES:Ladies
END:VEVENT
BEGIN:VEVENT
DTSTART;VALUE=DATE:20180430
DTEND;VALUE=DATE:20180501
DTSTAMP:20260419T210946
CREATED:20170119T125251Z
LAST-MODIFIED:20170119T125251Z
UID:1197-1525046400-1525132799@www.nottinghamcitygolfclub.co.uk
SUMMARY:1st Round Interclub
DESCRIPTION:
URL:http://www.nottinghamcitygolfclub.co.uk/event/1st-round-interclub-v-worksop-brierley-forest-1-1-30/
CATEGORIES:Ladies
END:VEVENT
BEGIN:VEVENT
DTSTART;VALUE=DATE:20180427
DTEND;VALUE=DATE:20180428
DTSTAMP:20260419T210946
CREATED:20121128T132640Z
LAST-MODIFIED:20121128T132640Z
UID:214-1524787200-1524873599@www.nottinghamcitygolfclub.co.uk
SUMMARY:RNLI (ladies)
DESCRIPTION:
URL:http://www.nottinghamcitygolfclub.co.uk/event/good-friday-sweep/
CATEGORIES:Ladies
END:VEVENT
BEGIN:VEVENT
DTSTART;VALUE=DATE:20180420
DTEND;VALUE=DATE:20180421
DTSTAMP:20260419T210946
CREATED:20121128T133200Z
LAST-MODIFIED:20121128T133200Z
UID:221-1524182400-1524268799@www.nottinghamcitygolfclub.co.uk
SUMMARY:Spring meeting & Durham Bowl Qualifier(ladies)
DESCRIPTION:
URL:http://www.nottinghamcitygolfclub.co.uk/event/spring-meeting-durham-bowl-qualifier/
CATEGORIES:Ladies
END:VEVENT
BEGIN:VEVENT
DTSTART;VALUE=DATE:20180413
DTEND;VALUE=DATE:20180414
DTSTAMP:20260419T210946
CREATED:20121128T132959Z
LAST-MODIFIED:20121128T132959Z
UID:218-1523577600-1523663999@www.nottinghamcitygolfclub.co.uk
SUMMARY:Monthly Stableford (ladies)
DESCRIPTION:
URL:http://www.nottinghamcitygolfclub.co.uk/event/spring-meeting/
CATEGORIES:Ladies
END:VEVENT
BEGIN:VEVENT
DTSTART;VALUE=DATE:20180406
DTEND;VALUE=DATE:20180407
DTSTAMP:20260419T210946
CREATED:20121128T132847Z
LAST-MODIFIED:20121128T132847Z
UID:216-1522972800-1523059199@www.nottinghamcitygolfclub.co.uk
SUMMARY:Stevenson Cup Qualifying (ladies)
DESCRIPTION:
URL:http://www.nottinghamcitygolfclub.co.uk/event/stevenson-cup-qualifying/
CATEGORIES:Ladies
END:VEVENT
BEGIN:VEVENT
DTSTART;VALUE=DATE:20180406
DTEND;VALUE=DATE:20180407
DTSTAMP:20260419T210946
CREATED:20121128T132755Z
LAST-MODIFIED:20121128T132755Z
UID:215-1522972800-1523059199@www.nottinghamcitygolfclub.co.uk
SUMMARY:EWGA Medal (ladies)
DESCRIPTION:
URL:http://www.nottinghamcitygolfclub.co.uk/event/monthly-medal-april-4/
CATEGORIES:Ladies
END:VEVENT
BEGIN:VEVENT
DTSTART;VALUE=DATE:20180330
DTEND;VALUE=DATE:20180331
DTSTAMP:20260419T210946
CREATED:20121128T133040Z
LAST-MODIFIED:20121128T133040Z
UID:219-1522368000-1522454399@www.nottinghamcitygolfclub.co.uk
SUMMARY:Good Friday Sweep (ladies)
DESCRIPTION:Medal
URL:http://www.nottinghamcitygolfclub.co.uk/event/good-friday-sweep-2/
CATEGORIES:Ladies
END:VEVENT
BEGIN:VEVENT
DTSTART;VALUE=DATE:20180316
DTEND;VALUE=DATE:20180317
DTSTAMP:20260419T210946
CREATED:20121128T132541Z
LAST-MODIFIED:20121128T132541Z
UID:213-1521158400-1521244799@www.nottinghamcitygolfclub.co.uk
SUMMARY:Monthly stableford (ladies)
DESCRIPTION:
URL:http://www.nottinghamcitygolfclub.co.uk/event/t-b-a-2/
CATEGORIES:Ladies
END:VEVENT
BEGIN:VEVENT
DTSTART;VALUE=DATE:20180309
DTEND;VALUE=DATE:20180310
DTSTAMP:20260419T210946
CREATED:20170119T124854Z
LAST-MODIFIED:20170119T124854Z
UID:1195-1520553600-1520639999@www.nottinghamcitygolfclub.co.uk
SUMMARY:Ladies T.B.A
DESCRIPTION:
URL:http://www.nottinghamcitygolfclub.co.uk/event/ladies-t-b-a/
CATEGORIES:Ladies
END:VEVENT
BEGIN:VEVENT
DTSTART;VALUE=DATE:20180223
DTEND;VALUE=DATE:20180224
DTSTAMP:20260419T210946
CREATED:20170119T131750Z
LAST-MODIFIED:20170119T131750Z
UID:1211-1519344000-1519430399@www.nottinghamcitygolfclub.co.uk
SUMMARY:Ladies AGM
DESCRIPTION:
URL:http://www.nottinghamcitygolfclub.co.uk/event/ladies-agm/
END:VEVENT
BEGIN:VEVENT
DTSTART;TZID=Europe/London:20170225T180000
DTEND;TZID=Europe/London:20170225T200000
DTSTAMP:20260419T210946
CREATED:20121127T182921Z
LAST-MODIFIED:20121127T182921Z
UID:97-1488045600-1488052800@www.nottinghamcitygolfclub.co.uk
SUMMARY:Annual General Meeting
DESCRIPTION:Juniors Are Not Allowed To Attend
URL:http://www.nottinghamcitygolfclub.co.uk/event/annual-general-meeting/
CATEGORIES:Ladies,Men
END:VEVENT
BEGIN:VEVENT
DTSTART;VALUE=DATE:20150906
DTEND;VALUE=DATE:20150907
DTSTAMP:20260419T210946
CREATED:20121127T183031Z
LAST-MODIFIED:20121127T183031Z
UID:154-1441497600-1441583999@www.nottinghamcitygolfclub.co.uk
SUMMARY:Mens Club Championship (Day 2)
DESCRIPTION:36 Holes Gross – Final 18 Holes Nett
URL:http://www.nottinghamcitygolfclub.co.uk/event/club-championship2/
CATEGORIES:Men
END:VEVENT
BEGIN:VEVENT
DTSTART;VALUE=DATE:20150826
DTEND;VALUE=DATE:20150827
DTSTAMP:20260419T210946
CREATED:20130119T175038Z
LAST-MODIFIED:20130119T175038Z
UID:290-1440547200-1440633599@www.nottinghamcitygolfclub.co.uk
SUMMARY:Bronze League v Chilwell (4)
DESCRIPTION:Home
URL:http://www.nottinghamcitygolfclub.co.uk/event/bronze-league-v-college-pines-4/
CATEGORIES:Ladies
END:VEVENT
END:VCALENDAR