BEGIN:VCALENDAR
VERSION:2.0
PRODID:-//Nottingham City Golf Club - ECPv6.3.5//NONSGML v1.0//EN
CALSCALE:GREGORIAN
METHOD:PUBLISH
X-WR-CALNAME:Nottingham City Golf Club
X-ORIGINAL-URL:http://www.nottinghamcitygolfclub.co.uk
X-WR-CALDESC:Events for Nottingham City Golf Club
REFRESH-INTERVAL;VALUE=DURATION:PT1H
X-Robots-Tag:noindex
X-PUBLISHED-TTL:PT1H
BEGIN:VTIMEZONE
TZID:Europe/London
BEGIN:DAYLIGHT
TZOFFSETFROM:+0000
TZOFFSETTO:+0100
TZNAME:BST
DTSTART:20180325T010000
END:DAYLIGHT
BEGIN:STANDARD
TZOFFSETFROM:+0100
TZOFFSETTO:+0000
TZNAME:GMT
DTSTART:20181028T010000
END:STANDARD
BEGIN:DAYLIGHT
TZOFFSETFROM:+0000
TZOFFSETTO:+0100
TZNAME:BST
DTSTART:20190331T010000
END:DAYLIGHT
BEGIN:STANDARD
TZOFFSETFROM:+0100
TZOFFSETTO:+0000
TZNAME:GMT
DTSTART:20191027T010000
END:STANDARD
END:VTIMEZONE
BEGIN:VEVENT
DTSTART;VALUE=DATE:20190918
DTEND;VALUE=DATE:20190919
DTSTAMP:20260419T174356
CREATED:20121127T183031Z
LAST-MODIFIED:20121127T183031Z
UID:206-1568764800-1568851199@www.nottinghamcitygolfclub.co.uk
SUMMARY:Len Hames Trophy (Ladies & Snr)
DESCRIPTION:Foursomes
URL:http://www.nottinghamcitygolfclub.co.uk/event/len-hames-trophy/
CATEGORIES:Ladies,Mixed,Seniors
END:VEVENT
BEGIN:VEVENT
DTSTART;VALUE=DATE:20190916
DTEND;VALUE=DATE:20190917
DTSTAMP:20260419T174356
CREATED:20171201T114152Z
LAST-MODIFIED:20171201T114152Z
UID:1455-1568592000-1568678399@www.nottinghamcitygolfclub.co.uk
SUMMARY:Jim Foulks Cup (snr)
DESCRIPTION:Stableford
URL:http://www.nottinghamcitygolfclub.co.uk/event/jim-foulks-cup-snr/
CATEGORIES:Seniors
END:VEVENT
BEGIN:VEVENT
DTSTART;VALUE=DATE:20190913
DTEND;VALUE=DATE:20190914
DTSTAMP:20260419T174356
CREATED:20121220T134854Z
LAST-MODIFIED:20121220T134854Z
UID:239-1568332800-1568419199@www.nottinghamcitygolfclub.co.uk
SUMMARY:Medal Finals & 3rd Division Cup (Ladies)
DESCRIPTION:
URL:http://www.nottinghamcitygolfclub.co.uk/event/medal-finals-3rd-division-cup/
CATEGORIES:Ladies
END:VEVENT
BEGIN:VEVENT
DTSTART;VALUE=DATE:20190909
DTEND;VALUE=DATE:20190910
DTSTAMP:20260419T174356
CREATED:20121127T183032Z
LAST-MODIFIED:20121127T183032Z
UID:208-1567987200-1568073599@www.nottinghamcitygolfclub.co.uk
SUMMARY:Bruce Robinson
DESCRIPTION:Stableford
URL:http://www.nottinghamcitygolfclub.co.uk/event/jim-foulks-cup/
CATEGORIES:Seniors
END:VEVENT
BEGIN:VEVENT
DTSTART;VALUE=DATE:20190907
DTEND;VALUE=DATE:20190908
DTSTAMP:20260419T174356
CREATED:20121127T183031Z
LAST-MODIFIED:20121127T183031Z
UID:153-1567814400-1567900799@www.nottinghamcitygolfclub.co.uk
SUMMARY:Mens Club Championship
DESCRIPTION:36 Holes Gross + Net T B A \nSubsidiary Medal
URL:http://www.nottinghamcitygolfclub.co.uk/event/club-championship1/
CATEGORIES:Men
END:VEVENT
BEGIN:VEVENT
DTSTART;VALUE=DATE:20190906
DTEND;VALUE=DATE:20190907
DTSTAMP:20260419T174356
CREATED:20121220T134420Z
LAST-MODIFIED:20121220T134420Z
UID:236-1567728000-1567814399@www.nottinghamcitygolfclub.co.uk
SUMMARY:Monthly Stableford - September (ladies)
DESCRIPTION:
URL:http://www.nottinghamcitygolfclub.co.uk/event/monthly-stableford-september/
CATEGORIES:Ladies
END:VEVENT
BEGIN:VEVENT
DTSTART;VALUE=DATE:20190831
DTEND;VALUE=DATE:20190901
DTSTAMP:20260419T174356
CREATED:20121127T183031Z
LAST-MODIFIED:20121127T183031Z
UID:151-1567209600-1567295999@www.nottinghamcitygolfclub.co.uk
SUMMARY:Mens  Monthly Medal - August
DESCRIPTION:
URL:http://www.nottinghamcitygolfclub.co.uk/event/mens-monthly-medal-august1/
CATEGORIES:Men
END:VEVENT
BEGIN:VEVENT
DTSTART;VALUE=DATE:20190830
DTEND;VALUE=DATE:20190831
DTSTAMP:20260419T174356
CREATED:20170119T131155Z
LAST-MODIFIED:20170119T131155Z
UID:1207-1567123200-1567209599@www.nottinghamcitygolfclub.co.uk
SUMMARY:EG Medal September/ LGU Pin
DESCRIPTION:
URL:http://www.nottinghamcitygolfclub.co.uk/event/eg-medal-september-lgu-pin/
CATEGORIES:Ladies
END:VEVENT
BEGIN:VEVENT
DTSTART;TZID=Europe/London:20190828T080000
DTEND;TZID=Europe/London:20190828T170000
DTSTAMP:20260419T174356
CREATED:20160119T143919Z
LAST-MODIFIED:20160119T143919Z
UID:1014-1566979200-1567011600@www.nottinghamcitygolfclub.co.uk
SUMMARY:Past Captains V Past Presidents ( Ladies)
DESCRIPTION:
URL:http://www.nottinghamcitygolfclub.co.uk/event/past-captains-v-past-presidents-ladies/
CATEGORIES:Ladies
END:VEVENT
BEGIN:VEVENT
DTSTART;VALUE=DATE:20190823
DTEND;VALUE=DATE:20190824
DTSTAMP:20260419T174356
CREATED:20130119T173552Z
LAST-MODIFIED:20130119T173552Z
UID:276-1566518400-1566604799@www.nottinghamcitygolfclub.co.uk
SUMMARY:Centenary Trophy-Medal & Hilda Williams (2nd Card ladies)
DESCRIPTION:
URL:http://www.nottinghamcitygolfclub.co.uk/event/city-arrow-hilda-williams-2nd-card/
CATEGORIES:Ladies
END:VEVENT
BEGIN:VEVENT
DTSTART;TZID=Europe/London:20190821T080000
DTEND;TZID=Europe/London:20190821T170000
DTSTAMP:20260419T174356
CREATED:20150311T173239Z
LAST-MODIFIED:20150311T173239Z
UID:906-1566374400-1566406800@www.nottinghamcitygolfclub.co.uk
SUMMARY:Terry Thurgood Mixed BB Medal
DESCRIPTION:9-00 am for 9.30
URL:http://www.nottinghamcitygolfclub.co.uk/event/ladies-v-seniors/
CATEGORIES:Ladies,Seniors
END:VEVENT
BEGIN:VEVENT
DTSTART;TZID=Europe/London:20190819T080000
DTEND;TZID=Europe/London:20190819T170000
DTSTAMP:20260419T174356
CREATED:20151215T204704Z
LAST-MODIFIED:20151215T204704Z
UID:1006-1566201600-1566234000@www.nottinghamcitygolfclub.co.uk
SUMMARY:Dickie Danvers Trophy
DESCRIPTION:Stableford
URL:http://www.nottinghamcitygolfclub.co.uk/event/dickie-danvers-trophy/
CATEGORIES:Seniors
END:VEVENT
BEGIN:VEVENT
DTSTART;VALUE=DATE:20190819
DTEND;VALUE=DATE:20190820
DTSTAMP:20260419T174356
CREATED:20121127T182941Z
LAST-MODIFIED:20121127T182941Z
UID:180-1566172800-1566259199@www.nottinghamcitygolfclub.co.uk
SUMMARY:Inter Club Scratch League Bye
DESCRIPTION:
URL:http://www.nottinghamcitygolfclub.co.uk/event/inter-club-scratch-league3/
CATEGORIES:Men
END:VEVENT
BEGIN:VEVENT
DTSTART;VALUE=DATE:20190817
DTEND;VALUE=DATE:20190818
DTSTAMP:20260419T174356
CREATED:20121127T183031Z
LAST-MODIFIED:20121127T183031Z
UID:152-1566000000-1566086399@www.nottinghamcitygolfclub.co.uk
SUMMARY:Mens Sat Monthly Medal - August (2)
DESCRIPTION:
URL:http://www.nottinghamcitygolfclub.co.uk/event/mens-monthly-medal-august2/
CATEGORIES:Men
END:VEVENT
BEGIN:VEVENT
DTSTART;VALUE=DATE:20190816
DTEND;VALUE=DATE:20190817
DTSTAMP:20260419T174356
CREATED:20130119T175107Z
LAST-MODIFIED:20130119T175107Z
UID:291-1565913600-1565999999@www.nottinghamcitygolfclub.co.uk
SUMMARY:Ladies Invitation Day
DESCRIPTION:
URL:http://www.nottinghamcitygolfclub.co.uk/event/invitation-day/
CATEGORIES:Ladies
END:VEVENT
BEGIN:VEVENT
DTSTART;VALUE=DATE:20190814
DTEND;VALUE=DATE:20190815
DTSTAMP:20260419T174356
CREATED:20170119T131411Z
LAST-MODIFIED:20170119T131411Z
UID:1209-1565740800-1565827199@www.nottinghamcitygolfclub.co.uk
SUMMARY:Friendley v Southwell Home
DESCRIPTION:10.00 – 10.30
URL:http://www.nottinghamcitygolfclub.co.uk/event/ladies-friendly-v-rushcliffe-home/
CATEGORIES:Ladies
END:VEVENT
BEGIN:VEVENT
DTSTART;TZID=Europe/London:20190812T080000
DTEND;TZID=Europe/London:20190812T170000
DTSTAMP:20260419T174356
CREATED:20171201T135136Z
LAST-MODIFIED:20171201T135136Z
UID:1462-1565596800-1565629200@www.nottinghamcitygolfclub.co.uk
SUMMARY:Brights Bogey
DESCRIPTION:
URL:http://www.nottinghamcitygolfclub.co.uk/event/brights-bogey/
CATEGORIES:Seniors
END:VEVENT
BEGIN:VEVENT
DTSTART;VALUE=DATE:20190810
DTEND;VALUE=DATE:20190811
DTSTAMP:20260419T174356
CREATED:20121127T183031Z
LAST-MODIFIED:20121127T183031Z
UID:150-1565395200-1565481599@www.nottinghamcitygolfclub.co.uk
SUMMARY:Cyril Jepson Trophy (mens)
DESCRIPTION:Stableford
URL:http://www.nottinghamcitygolfclub.co.uk/event/cyril-jepson-trophy/
CATEGORIES:Men
END:VEVENT
BEGIN:VEVENT
DTSTART;VALUE=DATE:20190809
DTEND;VALUE=DATE:20190810
DTSTAMP:20260419T174356
CREATED:20130119T175335Z
LAST-MODIFIED:20130119T175335Z
UID:294-1565308800-1565395199@www.nottinghamcitygolfclub.co.uk
SUMMARY:Monthly Stableford &  (ladies)
DESCRIPTION:
URL:http://www.nottinghamcitygolfclub.co.uk/event/monthly-stableford-august/
CATEGORIES:Ladies
END:VEVENT
BEGIN:VEVENT
DTSTART;TZID=Europe/London:20190807T080000
DTEND;TZID=Europe/London:20190807T170000
DTSTAMP:20260419T174356
CREATED:20160118T192724Z
LAST-MODIFIED:20160118T192724Z
UID:1012-1565164800-1565197200@www.nottinghamcitygolfclub.co.uk
SUMMARY:Ladies Friendly v Chilwell Manor Home
DESCRIPTION:
URL:http://www.nottinghamcitygolfclub.co.uk/event/friendly-v-erewash-away-4-pm/
CATEGORIES:Ladies
END:VEVENT
BEGIN:VEVENT
DTSTART;VALUE=DATE:20190803
DTEND;VALUE=DATE:20190804
DTSTAMP:20260419T174356
CREATED:20121127T183016Z
LAST-MODIFIED:20121127T183016Z
UID:147-1564790400-1564876799@www.nottinghamcitygolfclub.co.uk
SUMMARY:Eric Perry Cup Medal (mens)
DESCRIPTION:
URL:http://www.nottinghamcitygolfclub.co.uk/event/eric-perry-cup-medal/
CATEGORIES:Men
END:VEVENT
BEGIN:VEVENT
DTSTART;TZID=Europe/London:20190722T080000
DTEND;TZID=Europe/London:20190722T170000
DTSTAMP:20260419T174356
CREATED:20171201T121655Z
LAST-MODIFIED:20171201T121655Z
UID:1458-1563782400-1563814800@www.nottinghamcitygolfclub.co.uk
SUMMARY:Seniors away day Rother Valley
DESCRIPTION:
URL:http://www.nottinghamcitygolfclub.co.uk/event/seniors-away-day-rother-valley/
CATEGORIES:Seniors
END:VEVENT
BEGIN:VEVENT
DTSTART;VALUE=DATE:20190627
DTEND;VALUE=DATE:20190628
DTSTAMP:20260419T174356
CREATED:20121127T182955Z
LAST-MODIFIED:20121127T182955Z
UID:130-1561593600-1561679999@www.nottinghamcitygolfclub.co.uk
SUMMARY:Presentation 7 30 PM
DESCRIPTION:
URL:http://www.nottinghamcitygolfclub.co.uk/event/monthly-medal-june1/
CATEGORIES:Men
END:VEVENT
BEGIN:VEVENT
DTSTART;VALUE=DATE:20190503
DTEND;VALUE=DATE:20190504
DTSTAMP:20260419T174356
CREATED:20130119T172103Z
LAST-MODIFIED:20130119T172103Z
UID:265-1556841600-1556927999@www.nottinghamcitygolfclub.co.uk
SUMMARY:EWGA Medal  (ladies)
DESCRIPTION:
URL:http://www.nottinghamcitygolfclub.co.uk/event/ewga-medal-m-durham-1st-card/
CATEGORIES:Ladies
END:VEVENT
BEGIN:VEVENT
DTSTART;TZID=Europe/London:20190429T080000
DTEND;TZID=Europe/London:20190429T170000
DTSTAMP:20260419T174356
CREATED:20190228T101557Z
LAST-MODIFIED:20190228T101557Z
UID:1688-1556524800-1556557200@www.nottinghamcitygolfclub.co.uk
SUMMARY:Alan Davies Stableford
DESCRIPTION:
URL:http://www.nottinghamcitygolfclub.co.uk/event/alan-davies-stableford/
CATEGORIES:Seniors
END:VEVENT
BEGIN:VEVENT
DTSTART;TZID=Europe/London:20190417T080000
DTEND;TZID=Europe/London:20190417T170000
DTSTAMP:20260419T174356
CREATED:20190228T100153Z
LAST-MODIFIED:20190228T100153Z
UID:1679-1555488000-1555520400@www.nottinghamcitygolfclub.co.uk
SUMMARY:Ladies v Seniors
DESCRIPTION:
URL:http://www.nottinghamcitygolfclub.co.uk/event/ladies-v-seniors-2/
CATEGORIES:Ladies,Seniors
END:VEVENT
BEGIN:VEVENT
DTSTART;VALUE=DATE:20190302
DTEND;VALUE=DATE:20190303
DTSTAMP:20260419T174356
CREATED:20121127T182922Z
LAST-MODIFIED:20121127T182922Z
UID:99-1551484800-1551571199@www.nottinghamcitygolfclub.co.uk
SUMMARY:Last Winter Competition
DESCRIPTION:
URL:http://www.nottinghamcitygolfclub.co.uk/event/winter-competition/
CATEGORIES:Men
END:VEVENT
BEGIN:VEVENT
DTSTART;TZID=Europe/London:20190223T080000
DTEND;TZID=Europe/London:20190223T170000
DTSTAMP:20260419T174356
CREATED:20171201T135436Z
LAST-MODIFIED:20171201T135436Z
UID:1465-1550908800-1550941200@www.nottinghamcitygolfclub.co.uk
SUMMARY:NCGC AGM
DESCRIPTION:
URL:http://www.nottinghamcitygolfclub.co.uk/event/ncgc-agm-2/
CATEGORIES:Ladies,Men
END:VEVENT
BEGIN:VEVENT
DTSTART;TZID=Europe/London:20190222T080000
DTEND;TZID=Europe/London:20190222T170000
DTSTAMP:20260419T174356
CREATED:20171201T135518Z
LAST-MODIFIED:20171201T135518Z
UID:1466-1550822400-1550854800@www.nottinghamcitygolfclub.co.uk
SUMMARY:LADIES AGM
DESCRIPTION:
URL:http://www.nottinghamcitygolfclub.co.uk/event/ladies-agm-2/
CATEGORIES:Ladies,Men
END:VEVENT
BEGIN:VEVENT
DTSTART;VALUE=DATE:20181207
DTEND;VALUE=DATE:20181208
DTSTAMP:20260419T174356
CREATED:20181219T131653Z
LAST-MODIFIED:20181219T131653Z
UID:1210-1544140800-1544227199@www.nottinghamcitygolfclub.co.uk
SUMMARY:Ladies Winter Competitions Start
DESCRIPTION:
URL:http://www.nottinghamcitygolfclub.co.uk/event/ladies-winter-competitions-start/
CATEGORIES:Ladies
END:VEVENT
END:VCALENDAR